Package: xCell2 Version: 0.99.108 Command: rm -rf xCell2.buildbin-libdir && mkdir xCell2.buildbin-libdir && E:\biocbuild\bbs-3.21-bioc\R\bin\R.exe CMD INSTALL --build --library=xCell2.buildbin-libdir xCell2_0.99.108.tar.gz StartedAt: 2025-02-05 09:10:44 -0500 (Wed, 05 Feb 2025) EndedAt: 2025-02-05 09:11:32 -0500 (Wed, 05 Feb 2025) EllapsedTime: 48.5 seconds RetCode: 0 Status: OK PackageFile: xCell2_0.99.108.zip PackageFileSize: 2.947 MiB