############################################################################## ############################################################################## ### ### Running command: ### ### rm -rf xCell2.buildbin-libdir && mkdir xCell2.buildbin-libdir && E:\biocbuild\bbs-3.21-bioc\R\bin\R.exe CMD INSTALL --build --library=xCell2.buildbin-libdir xCell2_0.99.108.tar.gz ### ############################################################################## ############################################################################## * installing *source* package 'xCell2' ... ** this is package 'xCell2' version '0.99.108' ** using staged installation ** R ** data ** inst ** byte-compile and prepare package for lazy loading ** help *** installing help indices ** building package indices ** installing vignettes ** testing if installed package can be loaded from temporary location ** testing if installed package can be loaded from final location ** testing if installed package keeps a record of temporary installation path * MD5 sums packaged installation of 'xCell2' as xCell2_0.99.108.zip * DONE (xCell2)