Package: xCell2 Version: 0.99.108 Command: /home/biocbuild/bbs-3.21-bioc/R/bin/R CMD INSTALL xCell2 StartedAt: 2025-02-04 15:27:52 -0500 (Tue, 04 Feb 2025) EndedAt: 2025-02-04 15:28:29 -0500 (Tue, 04 Feb 2025) EllapsedTime: 36.7 seconds RetCode: 0 Status: OK