Package: xCell2 Version: 0.99.108 Command: /home/biocbuild/bbs-3.21-bioc/R/bin/R CMD build --keep-empty-dirs --no-resave-data xCell2 StartedAt: 2025-02-04 19:44:00 -0500 (Tue, 04 Feb 2025) EndedAt: 2025-02-04 19:45:21 -0500 (Tue, 04 Feb 2025) EllapsedTime: 81.1 seconds RetCode: 0 Status: OK PackageFile: xCell2_0.99.108.tar.gz PackageFileSize: 3.098 MiB