Package: xCell2 Version: 0.99.108 Command: /home/biocbuild/R/R/bin/R CMD INSTALL xCell2 StartedAt: 2025-01-29 20:09:07 -0000 (Wed, 29 Jan 2025) EndedAt: 2025-01-29 20:09:58 -0000 (Wed, 29 Jan 2025) EllapsedTime: 50.8 seconds RetCode: 0 Status: OK