Package: xCell2 Version: 0.99.108 Command: /home/biocbuild/R/R/bin/R CMD check --install=check:xCell2.install-out.txt --library=/home/biocbuild/R/R/site-library --no-vignettes --timings xCell2_0.99.108.tar.gz StartedAt: 2025-01-27 13:57:16 -0000 (Mon, 27 Jan 2025) EndedAt: 2025-01-27 14:05:48 -0000 (Mon, 27 Jan 2025) EllapsedTime: 512.8 seconds RetCode: 0 Status: OK CheckDir: xCell2.Rcheck Warnings: 0