Package: xCell2 Version: 0.99.108 Command: /home/biocbuild/R/R/bin/R CMD build --keep-empty-dirs --no-resave-data xCell2 StartedAt: 2025-01-28 03:12:14 -0000 (Tue, 28 Jan 2025) EndedAt: 2025-01-28 03:14:14 -0000 (Tue, 28 Jan 2025) EllapsedTime: 120.1 seconds RetCode: 0 Status: OK PackageFile: xCell2_0.99.108.tar.gz PackageFileSize: 2.929 MiB