Package: xCell2 Version: 0.99.108 Command: /Library/Frameworks/R.framework/Resources/bin/R CMD build --keep-empty-dirs --no-resave-data xCell2 StartedAt: 2025-02-04 17:55:20 -0500 (Tue, 04 Feb 2025) EndedAt: 2025-02-04 17:55:58 -0500 (Tue, 04 Feb 2025) EllapsedTime: 38.4 seconds RetCode: 0 Status: OK PackageFile: xCell2_0.99.108.tar.gz PackageFileSize: 3.074 MiB