Package: wppi Version: 1.17.0 Command: /home/biocbuild/bbs-3.22-bioc/R/bin/R CMD INSTALL wppi StartedAt: 2025-10-02 15:09:55 -0400 (Thu, 02 Oct 2025) EndedAt: 2025-10-02 15:10:11 -0400 (Thu, 02 Oct 2025) EllapsedTime: 16.1 seconds RetCode: 0 Status: OK