Package: wppi Version: 1.17.0 Command: /home/biocbuild/bbs-3.22-bioc/R/bin/R CMD build --keep-empty-dirs --no-resave-data --md5 wppi StartedAt: 2025-10-02 20:46:04 -0400 (Thu, 02 Oct 2025) EndedAt: 2025-10-02 20:48:29 -0400 (Thu, 02 Oct 2025) EllapsedTime: 144.2 seconds RetCode: 0 Status: OK PackageFile: wppi_1.17.0.tar.gz PackageFileSize: 648 KiB