Package: widgetTools Version: 1.87.0 Command: /home/biocbuild/bbs-3.22-bioc/R/bin/R CMD check --install=check:widgetTools.install-out.txt --library=/home/biocbuild/bbs-3.22-bioc/R/site-library --timings widgetTools_1.87.0.tar.gz StartedAt: 2025-10-25 05:24:51 -0400 (Sat, 25 Oct 2025) EndedAt: 2025-10-25 05:25:13 -0400 (Sat, 25 Oct 2025) EllapsedTime: 22.0 seconds RetCode: 0 Status: OK CheckDir: widgetTools.Rcheck Warnings: 0