Package: widgetTools Version: 1.85.0 Command: /home/biocbuild/R/R/bin/R CMD build --keep-empty-dirs --no-resave-data widgetTools StartedAt: 2025-01-11 03:12:44 -0000 (Sat, 11 Jan 2025) EndedAt: 2025-01-11 03:12:53 -0000 (Sat, 11 Jan 2025) EllapsedTime: 9.0 seconds RetCode: 0 Status: OK PackageFile: widgetTools_1.85.0.tar.gz PackageFileSize: 222.1 KiB