Back to Build/check report for BioC 3.23:   simplified   long
ABCDEFGHIJKLMNOPQRSTUV[W]XYZ

This page was generated on 2025-11-06 11:32 -0500 (Thu, 06 Nov 2025).

HostnameOSArch (*)R versionInstalled pkgs
nebbiolo1Linux (Ubuntu 24.04.3 LTS)x86_64R Under development (unstable) (2025-10-20 r88955) -- "Unsuffered Consequences" 4818
Click on any hostname to see more info about the system (e.g. compilers)      (*) as reported by 'uname -p', except on Windows and Mac OS X

All results for package widgetTools


To the developers/maintainers of the widgetTools package:
- Allow up to 24 hours (and sometimes 48 hours) for your latest push to git@git.bioconductor.org:packages/widgetTools.git to reflect on this report. See Troubleshooting Build Report for more information.
- Use the following Renviron settings to reproduce errors and warnings.
- If 'R CMD check' started to fail recently on the Linux builder(s) over a missing dependency, add the missing dependency to 'Suggests:' in your DESCRIPTION file. See Renviron.bioc for more information.

raw results

Package 2299/2323HostnameOS / ArchINSTALLBUILDCHECKBUILD BIN
widgetTools 1.89.0  (landing page)
Jianhua Zhang
Snapshot Date: 2025-11-05 13:40 -0500 (Wed, 05 Nov 2025)
git_url: https://git.bioconductor.org/packages/widgetTools
git_branch: devel
git_last_commit: 0513252
git_last_commit_date: 2025-10-29 09:42:19 -0500 (Wed, 29 Oct 2025)
nebbiolo1Linux (Ubuntu 24.04.3 LTS) / x86_64  OK    OK    OK  UNNEEDED, same version is already published



Results for Bioconductor software packages that depend directly on package widgetTools

QUICK STATSOS / ArchINSTALLBUILDCHECKBUILD BIN
nebbiolo1Linux (Ubuntu 24.04.3 LTS) / x86_64
002
002
0002
Package 1/2HostnameOS / ArchINSTALLBUILDCHECKBUILD BIN
OLINgui 1.85.0  (landing page)
Matthias Futschik
git_last_commit: c20e2c9
git_last_commit_date: 2025-10-29 09:55:35 -0500
nebbiolo1Linux (Ubuntu 24.04.3 LTS) / x86_64  OK    OK    OK  UNNEEDED, same version is already published
Package 2/2HostnameOS / ArchINSTALLBUILDCHECKBUILD BIN
tkWidgets 1.89.0  (landing page)
J. Zhang
git_last_commit: 827eeaa
git_last_commit_date: 2025-10-29 09:42:00 -0500
nebbiolo1Linux (Ubuntu 24.04.3 LTS) / x86_64  OK    OK    OK  UNNEEDED, same version is already published