Package: webbioc Version: 1.79.0 Command: chmod a+r webbioc -R && E:\biocbuild\bbs-3.21-bioc\R\bin\R.exe CMD build --keep-empty-dirs --no-resave-data webbioc StartedAt: 2025-02-14 22:19:53 -0500 (Fri, 14 Feb 2025) EndedAt: 2025-02-14 22:20:30 -0500 (Fri, 14 Feb 2025) EllapsedTime: 37.1 seconds RetCode: 0 Status: OK PackageFile: webbioc_1.79.0.tar.gz PackageFileSize: 175.6 KiB