Package: webbioc Version: 1.81.0 Command: /home/biocbuild/bbs-3.22-bioc/R/bin/R CMD check --install=check:webbioc.install-out.txt --library=/home/biocbuild/bbs-3.22-bioc/R/site-library --timings webbioc_1.81.0.tar.gz StartedAt: 2025-10-11 05:42:02 -0400 (Sat, 11 Oct 2025) EndedAt: 2025-10-11 05:43:52 -0400 (Sat, 11 Oct 2025) EllapsedTime: 110.1 seconds RetCode: 0 Status: OK CheckDir: webbioc.Rcheck Warnings: 0