Package: webbioc Version: 1.81.0 Command: /Library/Frameworks/R.framework/Resources/bin/R CMD check --install=check:webbioc.install-out.txt --library=/Library/Frameworks/R.framework/Resources/library --no-vignettes --timings webbioc_1.81.0.tar.gz StartedAt: 2025-05-07 00:18:27 -0400 (Wed, 07 May 2025) EndedAt: 2025-05-07 00:20:14 -0400 (Wed, 07 May 2025) EllapsedTime: 106.6 seconds RetCode: 0 Status: OK CheckDir: webbioc.Rcheck Warnings: 0