Package: webbioc Version: 1.81.0 Command: /Library/Frameworks/R.framework/Resources/bin/R CMD build --keep-empty-dirs --no-resave-data webbioc StartedAt: 2025-05-06 18:48:04 -0400 (Tue, 06 May 2025) EndedAt: 2025-05-06 18:48:38 -0400 (Tue, 06 May 2025) EllapsedTime: 34.2 seconds RetCode: 0 Status: OK PackageFile: webbioc_1.81.0.tar.gz PackageFileSize: 310.6 KiB