Package: webbioc Version: 1.81.0 Command: /Library/Frameworks/R.framework/Resources/bin/R CMD INSTALL webbioc StartedAt: 2025-05-07 15:18:47 -0400 (Wed, 07 May 2025) EndedAt: 2025-05-07 15:18:55 -0400 (Wed, 07 May 2025) EllapsedTime: 8.6 seconds RetCode: 0 Status: OK