Package: webbioc Version: 1.81.0 Command: /Library/Frameworks/R.framework/Resources/bin/R CMD check --install=check:webbioc.install-out.txt --library=/Library/Frameworks/R.framework/Resources/library --no-vignettes --timings webbioc_1.81.0.tar.gz StartedAt: 2025-05-08 22:39:53 -0400 (Thu, 08 May 2025) EndedAt: 2025-05-08 22:40:34 -0400 (Thu, 08 May 2025) EllapsedTime: 40.5 seconds RetCode: 0 Status: OK CheckDir: webbioc.Rcheck Warnings: 0