Package: weaver Version: 1.75.0 Command: rm -rf weaver.buildbin-libdir && mkdir weaver.buildbin-libdir && F:\biocbuild\bbs-3.22-bioc\R\bin\R.exe CMD INSTALL --build --library=weaver.buildbin-libdir weaver_1.75.0.tar.gz StartedAt: 2025-08-15 11:35:37 -0400 (Fri, 15 Aug 2025) EndedAt: 2025-08-15 11:35:43 -0400 (Fri, 15 Aug 2025) EllapsedTime: 6.5 seconds RetCode: 0 Status: OK PackageFile: weaver_1.75.0.zip PackageFileSize: 130.4 KiB