Package: wavClusteR Version: 2.43.0 Command: /home/biocbuild/bbs-3.22-bioc/R/bin/R CMD INSTALL wavClusteR StartedAt: 2025-10-08 15:52:59 -0400 (Wed, 08 Oct 2025) EndedAt: 2025-10-08 15:53:46 -0400 (Wed, 08 Oct 2025) EllapsedTime: 47.4 seconds RetCode: 0 Status: OK