Package: wavClusteR Version: 2.43.0 Command: /home/biocbuild/bbs-3.22-bioc/R/bin/R CMD build --keep-empty-dirs --no-resave-data --md5 wavClusteR StartedAt: 2025-10-08 21:09:47 -0400 (Wed, 08 Oct 2025) EndedAt: 2025-10-08 21:10:52 -0400 (Wed, 08 Oct 2025) EllapsedTime: 65.1 seconds RetCode: 0 Status: OK PackageFile: wavClusteR_2.43.0.tar.gz PackageFileSize: 782.1 KiB