Package: wateRmelon Version: 2.13.0 Command: E:\biocbuild\bbs-3.21-bioc\R\bin\R.exe CMD INSTALL wateRmelon StartedAt: 2025-02-14 16:58:08 -0500 (Fri, 14 Feb 2025) EndedAt: 2025-02-14 16:59:53 -0500 (Fri, 14 Feb 2025) EllapsedTime: 104.4 seconds RetCode: 0 Status: OK