Package: wateRmelon Version: 2.13.0 Command: /home/biocbuild/R/R/bin/R CMD check --install=check:wateRmelon.install-out.txt --library=/home/biocbuild/R/R/site-library --no-vignettes --timings wateRmelon_2.13.0.tar.gz StartedAt: 2025-01-27 13:55:31 -0000 (Mon, 27 Jan 2025) EndedAt: 2025-01-27 14:05:31 -0000 (Mon, 27 Jan 2025) EllapsedTime: 600.7 seconds RetCode: 0 Status: WARNINGS CheckDir: wateRmelon.Rcheck Warnings: 9