Package: waddR Version: 1.23.0 Command: rm -rf waddR.buildbin-libdir && mkdir waddR.buildbin-libdir && F:\biocbuild\bbs-3.22-bioc\R\bin\R.exe CMD INSTALL --build --library=waddR.buildbin-libdir waddR_1.23.0.tar.gz StartedAt: 2025-05-27 10:19:06 -0400 (Tue, 27 May 2025) EndedAt: 2025-05-27 10:21:00 -0400 (Tue, 27 May 2025) EllapsedTime: 114.1 seconds RetCode: 0 Status: OK PackageFile: waddR_1.23.0.zip PackageFileSize: 533.1 KiB