Package: vulcan Version: 1.31.0 Command: chmod a+r vulcan -R && F:\biocbuild\bbs-3.22-bioc\R\bin\R.exe CMD build --keep-empty-dirs --no-resave-data vulcan StartedAt: 2025-08-14 23:59:41 -0400 (Thu, 14 Aug 2025) EndedAt: 2025-08-15 00:01:37 -0400 (Fri, 15 Aug 2025) EllapsedTime: 115.5 seconds RetCode: 0 Status: OK PackageFile: vulcan_1.31.0.tar.gz PackageFileSize: 253.9 KiB