Package: vtpnet Version: 0.49.0 Command: /home/biocbuild/bbs-3.22-bioc/R/bin/R CMD INSTALL vtpnet StartedAt: 2025-10-06 15:40:05 -0400 (Mon, 06 Oct 2025) EndedAt: 2025-10-06 15:40:55 -0400 (Mon, 06 Oct 2025) EllapsedTime: 49.9 seconds RetCode: 0 Status: OK