Package: vtpnet Version: 0.49.0 Command: /home/biocbuild/bbs-3.22-bioc/R/bin/R CMD build --keep-empty-dirs --no-resave-data --md5 vtpnet StartedAt: 2025-10-06 20:43:53 -0400 (Mon, 06 Oct 2025) EndedAt: 2025-10-06 20:45:22 -0400 (Mon, 06 Oct 2025) EllapsedTime: 89.2 seconds RetCode: 0 Status: OK PackageFile: vtpnet_0.49.0.tar.gz PackageFileSize: 20.23 MiB