Package: vsn Version: 3.77.0 Command: /home/biocbuild/R/R/bin/R CMD build --keep-empty-dirs --no-resave-data vsn StartedAt: 2025-10-03 04:10:14 -0000 (Fri, 03 Oct 2025) EndedAt: 2025-10-03 04:11:19 -0000 (Fri, 03 Oct 2025) EllapsedTime: 65.0 seconds RetCode: 0 Status: OK PackageFile: vsn_3.77.0.tar.gz PackageFileSize: 1.35 MiB