Package: vsn Version: 3.77.0 Command: chmod a+r vsn -R && F:\biocbuild\bbs-3.22-bioc\R\bin\R.exe CMD build --keep-empty-dirs --no-resave-data vsn StartedAt: 2025-08-14 23:58:27 -0400 (Thu, 14 Aug 2025) EndedAt: 2025-08-14 23:59:48 -0400 (Thu, 14 Aug 2025) EllapsedTime: 81.6 seconds RetCode: 0 Status: OK PackageFile: vsn_3.77.0.tar.gz PackageFileSize: 1.304 MiB