Package: vsn Version: 3.77.0 Maintainer: Wolfgang Huber MaintainerEmail: wolfgang.huber at embl.org git_url: https://git.bioconductor.org/packages/vsn git_branch: devel git_last_commit: 93231e3 git_last_commit_date: 2025-04-15 09:16:09 -0400 (Tue, 15 Apr 2025)