Package: vmrseq Version: 1.1.2 Command: /home/biocbuild/bbs-3.22-bioc/R/bin/R CMD INSTALL vmrseq StartedAt: 2025-10-08 15:55:59 -0400 (Wed, 08 Oct 2025) EndedAt: 2025-10-08 15:56:55 -0400 (Wed, 08 Oct 2025) EllapsedTime: 56.1 seconds RetCode: 0 Status: OK