Package: vmrseq Version: 1.3.0 Command: /Library/Frameworks/R.framework/Resources/bin/R CMD INSTALL vmrseq StartedAt: 2025-11-19 15:23:09 -0500 (Wed, 19 Nov 2025) EndedAt: 2025-11-19 15:23:27 -0500 (Wed, 19 Nov 2025) EllapsedTime: 17.8 seconds RetCode: 0 Status: OK