Package: vmrseq Version: 1.3.0 Command: /Library/Frameworks/R.framework/Resources/bin/R CMD build --keep-empty-dirs --no-resave-data vmrseq StartedAt: 2025-11-19 18:05:02 -0500 (Wed, 19 Nov 2025) EndedAt: 2025-11-19 18:05:43 -0500 (Wed, 19 Nov 2025) EllapsedTime: 41.5 seconds RetCode: 0 Status: OK PackageFile: vmrseq_1.3.0.tar.gz PackageFileSize: 2.982 MiB