Package: vmrseq Version: 1.3.0 Command: rm -rf vmrseq.buildbin-libdir && mkdir vmrseq.buildbin-libdir && /Users/biocbuild/BBS/utils/build-universal.sh vmrseq_1.3.0.tar.gz /Library/Frameworks/R.framework/Resources/bin/R vmrseq.buildbin-libdir StartedAt: 2025-11-19 23:57:46 -0500 (Wed, 19 Nov 2025) EndedAt: 2025-11-19 23:58:08 -0500 (Wed, 19 Nov 2025) EllapsedTime: 21.5 seconds RetCode: 0 Status: OK PackageFile: vmrseq_1.3.0.tgz PackageFileSize: 2.878 MiB