Package: vissE Version: 1.17.0 Command: /Library/Frameworks/R.framework/Resources/bin/R CMD check --install=check:vissE.install-out.txt --library=/Library/Frameworks/R.framework/Resources/library --no-vignettes --timings vissE_1.17.0.tar.gz StartedAt: 2025-05-28 00:05:23 -0400 (Wed, 28 May 2025) EndedAt: 2025-05-28 00:07:37 -0400 (Wed, 28 May 2025) EllapsedTime: 133.5 seconds RetCode: 0 Status: OK CheckDir: vissE.Rcheck Warnings: 0