Package: vissE Version: 1.17.0 Command: /Library/Frameworks/R.framework/Resources/bin/R CMD build --keep-empty-dirs --no-resave-data vissE StartedAt: 2025-05-27 18:41:11 -0400 (Tue, 27 May 2025) EndedAt: 2025-05-27 18:46:51 -0400 (Tue, 27 May 2025) EllapsedTime: 340.2 seconds RetCode: 0 Status: OK PackageFile: vissE_1.17.0.tar.gz PackageFileSize: 1.647 MiB