Package: visiumStitched Version: 1.1.3 Command: /home/biocbuild/bbs-3.22-bioc/R/bin/R CMD INSTALL visiumStitched StartedAt: 2025-10-24 16:06:22 -0400 (Fri, 24 Oct 2025) EndedAt: 2025-10-24 16:07:11 -0400 (Fri, 24 Oct 2025) EllapsedTime: 49.5 seconds RetCode: 0 Status: OK