Package: visiumStitched Version: 1.1.3 Command: /home/biocbuild/bbs-3.22-bioc/R/bin/R CMD build --keep-empty-dirs --no-resave-data --md5 visiumStitched StartedAt: 2025-10-24 20:51:12 -0400 (Fri, 24 Oct 2025) EndedAt: 2025-10-24 20:55:41 -0400 (Fri, 24 Oct 2025) EllapsedTime: 269.2 seconds RetCode: 0 Status: OK PackageFile: visiumStitched_1.1.3.tar.gz PackageFileSize: 3.209 MiB