Package: visiumStitched Version: 1.1.2 Command: rm -rf visiumStitched.buildbin-libdir && mkdir visiumStitched.buildbin-libdir && /Users/biocbuild/BBS/utils/build-universal.sh visiumStitched_1.1.2.tar.gz /Library/Frameworks/R.framework/Resources/bin/R visiumStitched.buildbin-libdir StartedAt: 2025-10-14 23:42:33 -0400 (Tue, 14 Oct 2025) EndedAt: 2025-10-14 23:42:57 -0400 (Tue, 14 Oct 2025) EllapsedTime: 23.5 seconds RetCode: 0 Status: OK PackageFile: visiumStitched_1.1.2.tgz PackageFileSize: 4.493 MiB