Package: viper Version: 1.43.0 Command: chmod a+r viper -R && F:\biocbuild\bbs-3.22-bioc\R\bin\R.exe CMD build --keep-empty-dirs --no-resave-data viper StartedAt: 2025-08-14 23:57:12 -0400 (Thu, 14 Aug 2025) EndedAt: 2025-08-15 00:02:50 -0400 (Fri, 15 Aug 2025) EllapsedTime: 337.3 seconds RetCode: 0 Status: OK PackageFile: viper_1.43.0.tar.gz PackageFileSize: 313.8 KiB