Package: viper Version: 1.43.0 Command: /Library/Frameworks/R.framework/Resources/bin/R CMD build --keep-empty-dirs --no-resave-data viper StartedAt: 2025-05-06 18:01:16 -0400 (Tue, 06 May 2025) EndedAt: 2025-05-06 18:03:15 -0400 (Tue, 06 May 2025) EllapsedTime: 118.3 seconds RetCode: 0 Status: OK PackageFile: viper_1.43.0.tar.gz PackageFileSize: 503.4 KiB