Package: vidger Version: 1.29.0 Command: /Library/Frameworks/R.framework/Resources/bin/R CMD build --keep-empty-dirs --no-resave-data vidger StartedAt: 2025-05-09 18:03:13 -0400 (Fri, 09 May 2025) EndedAt: 2025-05-09 18:03:58 -0400 (Fri, 09 May 2025) EllapsedTime: 45.5 seconds RetCode: 0 Status: OK PackageFile: vidger_1.29.0.tar.gz PackageFileSize: 8.714 MiB