Package: veloviz Version: 1.15.0 Command: /home/biocbuild/R/R/bin/R CMD build --keep-empty-dirs --no-resave-data veloviz StartedAt: 2025-10-03 04:07:02 -0000 (Fri, 03 Oct 2025) EndedAt: 2025-10-03 04:07:29 -0000 (Fri, 03 Oct 2025) EllapsedTime: 27.0 seconds RetCode: 0 Status: OK PackageFile: veloviz_1.15.0.tar.gz PackageFileSize: 3.568 MiB