Package: velociraptor Version: 1.19.1 Command: /home/biocbuild/bbs-3.22-bioc/R/bin/R CMD INSTALL velociraptor StartedAt: 2025-10-19 15:55:29 -0400 (Sun, 19 Oct 2025) EndedAt: 2025-10-19 15:55:49 -0400 (Sun, 19 Oct 2025) EllapsedTime: 19.4 seconds RetCode: 0 Status: OK