Package: velociraptor Version: 1.19.1 Command: /home/biocbuild/bbs-3.22-bioc/R/bin/R CMD build --keep-empty-dirs --no-resave-data --md5 velociraptor StartedAt: 2025-10-19 20:40:22 -0400 (Sun, 19 Oct 2025) EndedAt: 2025-10-19 20:41:47 -0400 (Sun, 19 Oct 2025) EllapsedTime: 85.0 seconds RetCode: 0 Status: OK PackageFile: velociraptor_1.19.1.tar.gz PackageFileSize: 791.8 KiB