Package: variancePartition Version: 1.39.0 Command: /home/biocbuild/bbs-3.22-bioc/R/bin/R CMD INSTALL variancePartition StartedAt: 2025-07-23 15:14:24 -0400 (Wed, 23 Jul 2025) EndedAt: 2025-07-23 15:14:43 -0400 (Wed, 23 Jul 2025) EllapsedTime: 19.0 seconds RetCode: 0 Status: OK