Package: variancePartition Version: 1.39.0 Command: /home/biocbuild/bbs-3.22-bioc/R/bin/R CMD build --keep-empty-dirs --no-resave-data --md5 variancePartition StartedAt: 2025-07-23 19:56:33 -0400 (Wed, 23 Jul 2025) EndedAt: 2025-07-23 20:07:23 -0400 (Wed, 23 Jul 2025) EllapsedTime: 650.8 seconds RetCode: 0 Status: OK PackageFile: variancePartition_1.39.0.tar.gz PackageFileSize: 4.723 MiB