Package: updateObject Version: 1.13.0 Command: /home/biocbuild/R/R/bin/R CMD INSTALL updateObject StartedAt: 2025-10-02 20:33:03 -0000 (Thu, 02 Oct 2025) EndedAt: 2025-10-02 20:33:16 -0000 (Thu, 02 Oct 2025) EllapsedTime: 13.8 seconds RetCode: 0 Status: OK