Package: updateObject Version: 1.13.0 Command: /home/biocbuild/R/R/bin/R CMD build --keep-empty-dirs --no-resave-data updateObject StartedAt: 2025-10-03 04:04:09 -0000 (Fri, 03 Oct 2025) EndedAt: 2025-10-03 04:04:45 -0000 (Fri, 03 Oct 2025) EllapsedTime: 36.0 seconds RetCode: 0 Status: OK PackageFile: updateObject_1.13.0.tar.gz PackageFileSize: 1.313 MiB